BEGIN:VCALENDAR
VERSION:2.0
PRODID:-//Xcel Energy Front Range Circle Natural Gas Project - ECPv6.15.18//NONSGML v1.0//EN
CALSCALE:GREGORIAN
METHOD:PUBLISH
X-WR-CALNAME:Xcel Energy Front Range Circle Natural Gas Project
X-ORIGINAL-URL:https://xcelenergyfrontrangecirclegasproject.com
X-WR-CALDESC:Events for Xcel Energy Front Range Circle Natural Gas Project
REFRESH-INTERVAL;VALUE=DURATION:PT1H
X-Robots-Tag:noindex
X-PUBLISHED-TTL:PT1H
BEGIN:VTIMEZONE
TZID:America/Denver
BEGIN:DAYLIGHT
TZOFFSETFROM:-0700
TZOFFSETTO:-0600
TZNAME:MDT
DTSTART:20230312T090000
END:DAYLIGHT
BEGIN:STANDARD
TZOFFSETFROM:-0600
TZOFFSETTO:-0700
TZNAME:MST
DTSTART:20231105T080000
END:STANDARD
BEGIN:DAYLIGHT
TZOFFSETFROM:-0700
TZOFFSETTO:-0600
TZNAME:MDT
DTSTART:20240310T090000
END:DAYLIGHT
BEGIN:STANDARD
TZOFFSETFROM:-0600
TZOFFSETTO:-0700
TZNAME:MST
DTSTART:20241103T080000
END:STANDARD
BEGIN:DAYLIGHT
TZOFFSETFROM:-0700
TZOFFSETTO:-0600
TZNAME:MDT
DTSTART:20250309T090000
END:DAYLIGHT
BEGIN:STANDARD
TZOFFSETFROM:-0600
TZOFFSETTO:-0700
TZNAME:MST
DTSTART:20251102T080000
END:STANDARD
END:VTIMEZONE
BEGIN:VEVENT
DTSTART;TZID=America/Denver:20240828T170000
DTEND;TZID=America/Denver:20240828T190000
DTSTAMP:20260421T053252
CREATED:20240816T202538Z
LAST-MODIFIED:20240820T150352Z
UID:2167-1724864400-1724871600@xcelenergyfrontrangecirclegasproject.com
SUMMARY:City of Aurora Planning & Zoning Commission Hearing
DESCRIPTION:A public hearing will be held by the City of Aurora Planning & Zoning Commission on August 28\, 2024 at 5 p.m.
URL:https://xcelenergyfrontrangecirclegasproject.com/event/city-of-aurora-planning-zoning-commission-hearing/
LOCATION:Aurora Municipal Center\, 15151 E Alameda Parkway\, Ste. 2300\, Aurora\, CO\, 80012\, United States
END:VEVENT
END:VCALENDAR